BEGIN:VCALENDAR
VERSION:2.0
PRODID:-//Royal Herbs - ECPv6.15.17.1//NONSGML v1.0//EN
CALSCALE:GREGORIAN
METHOD:PUBLISH
X-WR-CALNAME:Royal Herbs
X-ORIGINAL-URL:https://royalherbs.ca
X-WR-CALDESC:Events for Royal Herbs
REFRESH-INTERVAL;VALUE=DURATION:PT1H
X-Robots-Tag:noindex
X-PUBLISHED-TTL:PT1H
BEGIN:VTIMEZONE
TZID:America/Vancouver
BEGIN:DAYLIGHT
TZOFFSETFROM:-0800
TZOFFSETTO:-0700
TZNAME:PDT
DTSTART:20170312T100000
END:DAYLIGHT
BEGIN:STANDARD
TZOFFSETFROM:-0700
TZOFFSETTO:-0800
TZNAME:PST
DTSTART:20171105T090000
END:STANDARD
BEGIN:DAYLIGHT
TZOFFSETFROM:-0800
TZOFFSETTO:-0700
TZNAME:PDT
DTSTART:20180311T100000
END:DAYLIGHT
BEGIN:STANDARD
TZOFFSETFROM:-0700
TZOFFSETTO:-0800
TZNAME:PST
DTSTART:20181104T090000
END:STANDARD
BEGIN:DAYLIGHT
TZOFFSETFROM:-0800
TZOFFSETTO:-0700
TZNAME:PDT
DTSTART:20190310T100000
END:DAYLIGHT
BEGIN:STANDARD
TZOFFSETFROM:-0700
TZOFFSETTO:-0800
TZNAME:PST
DTSTART:20191103T090000
END:STANDARD
BEGIN:DAYLIGHT
TZOFFSETFROM:-0800
TZOFFSETTO:-0700
TZNAME:PDT
DTSTART:20200308T100000
END:DAYLIGHT
BEGIN:STANDARD
TZOFFSETFROM:-0700
TZOFFSETTO:-0800
TZNAME:PST
DTSTART:20201101T090000
END:STANDARD
BEGIN:DAYLIGHT
TZOFFSETFROM:-0800
TZOFFSETTO:-0700
TZNAME:PDT
DTSTART:20210314T100000
END:DAYLIGHT
BEGIN:STANDARD
TZOFFSETFROM:-0700
TZOFFSETTO:-0800
TZNAME:PST
DTSTART:20211107T090000
END:STANDARD
BEGIN:DAYLIGHT
TZOFFSETFROM:-0800
TZOFFSETTO:-0700
TZNAME:PDT
DTSTART:20220313T100000
END:DAYLIGHT
BEGIN:STANDARD
TZOFFSETFROM:-0700
TZOFFSETTO:-0800
TZNAME:PST
DTSTART:20221106T090000
END:STANDARD
BEGIN:DAYLIGHT
TZOFFSETFROM:-0800
TZOFFSETTO:-0700
TZNAME:PDT
DTSTART:20230312T100000
END:DAYLIGHT
BEGIN:STANDARD
TZOFFSETFROM:-0700
TZOFFSETTO:-0800
TZNAME:PST
DTSTART:20231105T090000
END:STANDARD
BEGIN:DAYLIGHT
TZOFFSETFROM:-0800
TZOFFSETTO:-0700
TZNAME:PDT
DTSTART:20240310T100000
END:DAYLIGHT
BEGIN:STANDARD
TZOFFSETFROM:-0700
TZOFFSETTO:-0800
TZNAME:PST
DTSTART:20241103T090000
END:STANDARD
BEGIN:DAYLIGHT
TZOFFSETFROM:-0800
TZOFFSETTO:-0700
TZNAME:PDT
DTSTART:20250309T100000
END:DAYLIGHT
BEGIN:STANDARD
TZOFFSETFROM:-0700
TZOFFSETTO:-0800
TZNAME:PST
DTSTART:20251102T090000
END:STANDARD
BEGIN:DAYLIGHT
TZOFFSETFROM:-0800
TZOFFSETTO:-0700
TZNAME:PDT
DTSTART:20260308T100000
END:DAYLIGHT
BEGIN:STANDARD
TZOFFSETFROM:-0700
TZOFFSETTO:-0800
TZNAME:PST
DTSTART:20261101T090000
END:STANDARD
END:VTIMEZONE
BEGIN:VEVENT
DTSTART;VALUE=DATE:20251111
DTEND;VALUE=DATE:20251117
DTSTAMP:20260421T052932
CREATED:20250906T011355Z
LAST-MODIFIED:20250906T012236Z
UID:10000344-1762819200-1763337599@royalherbs.ca
SUMMARY:Circle Craft Holiday Market
DESCRIPTION:The Circle Craft Market is the largest and most impressive craft fair of the season in Vancouver. It features over 300 exhibitors selling everything from handmade jewellery to soaps\, home decor\, locally-made art and hundreds of Christmas present ideas you won’t find at most other places. \nExhibitors at the Circle Craft Market include local\, BC and Canadian artists and artisans. There are glassblowers\, leather workers\, wood and metal sculptors\, fashion and jewelry designers\, toy makers\, chocolatiers\, gourmet bakers\, BC wineries and all kinds of talented artisans participating.
URL:https://royalherbs.ca/event/circle-craft-holiday-market-2025/
LOCATION:Vancouver Convention Centre West Building\, 1055 Canada Place\, Vancouver\, British Columbia\, V6C 0B8\, Canada
CATEGORIES:Christmas Craft Fair
ATTACH;FMTTYPE=image/webp:https://royalherbs.ca/wp-content/uploads/2025/09/CF.webp
GEO:49.2878372;-123.1135236
X-APPLE-STRUCTURED-LOCATION;VALUE=URI;X-ADDRESS=Vancouver Convention Centre West Building 1055 Canada Place Vancouver British Columbia V6C 0B8 Canada;X-APPLE-RADIUS=500;X-TITLE=1055 Canada Place:geo:-123.1135236,49.2878372
END:VEVENT
BEGIN:VEVENT
DTSTART;VALUE=DATE:20241106
DTEND;VALUE=DATE:20241111
DTSTAMP:20260421T052932
CREATED:20240218T145943Z
LAST-MODIFIED:20240218T145943Z
UID:10000293-1730851200-1731283199@royalherbs.ca
SUMMARY:Circle Craft Christmas Show
DESCRIPTION:The Circle Craft Market is the largest and most impressive craft fair of the season in Vancouver. It features over 300 exhibitors selling everything from handmade jewellery to soaps\, home decor\, locally-made art and hundreds of Christmas present ideas you won’t find at most other places. \nExhibitors at the Circle Craft Market include local\, BC and Canadian artists and artisans. There are glassblowers\, leather workers\, wood and metal sculptors\, fashion and jewellery designers\, toy makers\, chocolatiers\, gourmet bakers\, BC wineries and all kinds of talented artisans participating.
URL:https://royalherbs.ca/event/circle-craft-christmas-show-nov2024/
LOCATION:Vancouver Convention Centre West Building\, 1055 Canada Place\, Vancouver\, British Columbia\, V6C 0B8\, Canada
CATEGORIES:Christmas Craft Fair
ATTACH;FMTTYPE=image/png:https://royalherbs.ca/wp-content/uploads/2018/05/CircleCraft_Logo_Web.png
GEO:49.2878372;-123.1135236
X-APPLE-STRUCTURED-LOCATION;VALUE=URI;X-ADDRESS=Vancouver Convention Centre West Building 1055 Canada Place Vancouver British Columbia V6C 0B8 Canada;X-APPLE-RADIUS=500;X-TITLE=1055 Canada Place:geo:-123.1135236,49.2878372
END:VEVENT
BEGIN:VEVENT
DTSTART;VALUE=DATE:20231108
DTEND;VALUE=DATE:20231113
DTSTAMP:20260421T052932
CREATED:20230925T182356Z
LAST-MODIFIED:20230925T182356Z
UID:10000251-1699401600-1699833599@royalherbs.ca
SUMMARY:Circle Craft Christmas Show
DESCRIPTION:The Circle Craft Market is the largest and most impressive craft fair of the season in Vancouver. It features over 300 exhibitors selling everything from handmade jewellery to soaps\, home decor\, locally-made art and hundreds of Christmas present ideas you won’t find at most other places. \nExhibitors at the Circle Craft Market include local\, BC and Canadian artists and artisans. There are glassblowers\, leather workers\, wood and metal sculptors\, fashion and jewellery designers\, toy makers\, chocolatiers\, gourmet bakers\, BC wineries and all kinds of talented artisans participating.
URL:https://royalherbs.ca/event/circle-craft-christmas-show-nov23/
LOCATION:Vancouver Convention Centre West Building\, 1055 Canada Place\, Vancouver\, British Columbia\, V6C 0B8\, Canada
CATEGORIES:Christmas Craft Fair
ATTACH;FMTTYPE=image/png:https://royalherbs.ca/wp-content/uploads/2018/05/CircleCraft_Logo_Web.png
GEO:49.2878372;-123.1135236
X-APPLE-STRUCTURED-LOCATION;VALUE=URI;X-ADDRESS=Vancouver Convention Centre West Building 1055 Canada Place Vancouver British Columbia V6C 0B8 Canada;X-APPLE-RADIUS=500;X-TITLE=1055 Canada Place:geo:-123.1135236,49.2878372
END:VEVENT
BEGIN:VEVENT
DTSTART;VALUE=DATE:20221109
DTEND;VALUE=DATE:20221114
DTSTAMP:20260421T052932
CREATED:20180512T005302Z
LAST-MODIFIED:20220806T140949Z
UID:10000155-1667952000-1668383999@royalherbs.ca
SUMMARY:Circle Craft Christmas Show
DESCRIPTION:The Circle Craft Market is the largest and most impressive craft fair of the season in Vancouver. It features over 300 exhibitors selling everything from handmade jewellery to soaps\, home decor\, locally-made art and hundreds of Christmas present ideas you won’t find at most other places. \nExhibitors at the Circle Craft Market include local\, BC and Canadian artists and artisans. There are glassblowers\, leather workers\, wood and metal sculptors\, fashion and jewellery designers\, toy makers\, chocolatiers\, gourmet bakers\, BC wineries and all kinds of talented artisans participating.
URL:https://royalherbs.ca/event/circle-craft-christmas-show-nov092022/
LOCATION:Vancouver Convention Centre West Building\, 1055 Canada Place\, Vancouver\, British Columbia\, V6C 0B8\, Canada
CATEGORIES:Christmas Craft Fair
ATTACH;FMTTYPE=image/png:https://royalherbs.ca/wp-content/uploads/2018/05/CircleCraft_Logo_Web.png
GEO:49.2878372;-123.1135236
X-APPLE-STRUCTURED-LOCATION;VALUE=URI;X-ADDRESS=Vancouver Convention Centre West Building 1055 Canada Place Vancouver British Columbia V6C 0B8 Canada;X-APPLE-RADIUS=500;X-TITLE=1055 Canada Place:geo:-123.1135236,49.2878372
END:VEVENT
BEGIN:VEVENT
DTSTART;VALUE=DATE:20211110
DTEND;VALUE=DATE:20211115
DTSTAMP:20260421T052932
CREATED:20180512T005302Z
LAST-MODIFIED:20211009T184405Z
UID:10000154-1636502400-1636934399@royalherbs.ca
SUMMARY:Circle Craft Christmas Show
DESCRIPTION:The Circle Craft Market is the largest and most impressive craft fair of the season in Vancouver. It features over 300 exhibitors selling everything from handmade jewellery to soaps\, home decor\, locally-made art and hundreds of Christmas present ideas you won’t find at most other places. \nExhibitors at the Circle Craft Market include local\, BC and Canadian artists and artisans. There are glassblowers\, leather workers\, wood and metal sculptors\, fashion and jewellery designers\, toy makers\, chocolatiers\, gourmet bakers\, BC wineries and all kinds of talented artisans participating. \n  \nFair Hours:\n\nWednesday\, November 10 10am to 9pm\nThursday\, November 11 10am to 9pm\nFriday\, November 12 10am to 9pm\nSaturday\, November 13 10am to 7pm\nSunday\, November 14 10am to 5pm\n\nAdmission:\n\nAdult Admission\, $15\nSenior Admission (65+)\, $12\nYouth Admission (13 – 17)\, $12\nAges 12 and under\, Free50% off after 5 pm on Wednesday\, Thursday\, Friday
URL:https://royalherbs.ca/event/circle-craft-christmas-show-nov102021/
LOCATION:Vancouver Convention Centre West Building\, 1055 Canada Place\, Vancouver\, British Columbia\, V6C 0B8\, Canada
CATEGORIES:Christmas Craft Fair
ATTACH;FMTTYPE=image/png:https://royalherbs.ca/wp-content/uploads/2018/05/CircleCraft_Logo_Web.png
GEO:49.2878372;-123.1135236
X-APPLE-STRUCTURED-LOCATION;VALUE=URI;X-ADDRESS=Vancouver Convention Centre West Building 1055 Canada Place Vancouver British Columbia V6C 0B8 Canada;X-APPLE-RADIUS=500;X-TITLE=1055 Canada Place:geo:-123.1135236,49.2878372
END:VEVENT
BEGIN:VEVENT
DTSTART;VALUE=DATE:20191107
DTEND;VALUE=DATE:20191112
DTSTAMP:20260421T052932
CREATED:20180512T005302Z
LAST-MODIFIED:20190910T010816Z
UID:10000153-1573084800-1573516799@royalherbs.ca
SUMMARY:Circle Craft Christmas Show
DESCRIPTION:The Circle Craft Market is the largest and most impressive craft fair of the season in Vancouver. It features over 300 exhibitors selling everything from handmade jewellery to soaps\, home decor\, locally-made art and hundreds of Christmas present ideas you won’t find at most other places. \nExhibitors at the Circle Craft Market include local\, BC and Canadian artists and artisans. There are glassblowers\, leather workers\, wood and metal sculptors\, fashion and jewellery designers\, toy makers\, chocolatiers\, gourmet bakers\, BC wineries and all kinds of talented artisans participating. \n  \nFair Hours:\n\nWednesday to Friday from 10 am to 9 pm\nSaturday from 10 am to 7 pm\nSunday from 10 am to 5 pm\n\n  \nAdmission:\n\n$15 for adults\n$12 for seniors and youth\nFree for children 12 years of age and under.
URL:https://royalherbs.ca/event/circle-craft-christmas-show-nov072019/
LOCATION:Vancouver Convention Centre West Building\, 1055 Canada Place\, Vancouver\, British Columbia\, V6C 0B8\, Canada
CATEGORIES:Christmas Craft Fair
ATTACH;FMTTYPE=image/jpeg:https://royalherbs.ca/wp-content/uploads/2018/05/logo_CircleCraft.jpg
GEO:49.2878372;-123.1135236
X-APPLE-STRUCTURED-LOCATION;VALUE=URI;X-ADDRESS=Vancouver Convention Centre West Building 1055 Canada Place Vancouver British Columbia V6C 0B8 Canada;X-APPLE-RADIUS=500;X-TITLE=1055 Canada Place:geo:-123.1135236,49.2878372
END:VEVENT
BEGIN:VEVENT
DTSTART;VALUE=DATE:20181107
DTEND;VALUE=DATE:20181112
DTSTAMP:20260421T052932
CREATED:20180512T005302Z
LAST-MODIFIED:20180512T005443Z
UID:10000152-1541548800-1541980799@royalherbs.ca
SUMMARY:Circle Craft Christmas Show
DESCRIPTION:The Circle Craft Market is the largest and most impressive craft fair of the season in Vancouver. It features over 300 exhibitors selling everything from handmade jewellery to soaps\, home decor\, locally-made art and hundreds of Christmas present ideas you won’t find at most other places. \nExhibitors at the Circle Craft Market include local\, BC and Canadian artists and artisans. There are glassblowers\, leather workers\, wood and metal sculptors\, fashion and jewellery designers\, toy makers\, chocolatiers\, gourmet bakers\, BC wineries and all kinds of talented artisans participating. \n  \nFair Hours:\n\nWednesday to Friday from 10 am to 9 pm\nSaturday from 10 am to 7 pm\nSunday from 10 am to 5 pm\n\n  \nAdmission:\n\n$15 for adults\n$12 for seniors and youth\nFree for children 12 years of age and under.
URL:https://royalherbs.ca/event/circle-craft-christmas-show/
LOCATION:Vancouver Convention Centre West Building\, 1055 Canada Place\, Vancouver\, British Columbia\, V6C 0B8\, Canada
CATEGORIES:Christmas Craft Fair
ATTACH;FMTTYPE=image/jpeg:https://royalherbs.ca/wp-content/uploads/2018/05/logo_CircleCraft.jpg
GEO:49.2878372;-123.1135236
X-APPLE-STRUCTURED-LOCATION;VALUE=URI;X-ADDRESS=Vancouver Convention Centre West Building 1055 Canada Place Vancouver British Columbia V6C 0B8 Canada;X-APPLE-RADIUS=500;X-TITLE=1055 Canada Place:geo:-123.1135236,49.2878372
END:VEVENT
END:VCALENDAR