BEGIN:VCALENDAR
VERSION:2.0
PRODID:-//Royal Herbs - ECPv6.15.17.1//NONSGML v1.0//EN
CALSCALE:GREGORIAN
METHOD:PUBLISH
X-ORIGINAL-URL:https://royalherbs.ca
X-WR-CALDESC:Events for Royal Herbs
REFRESH-INTERVAL;VALUE=DURATION:PT1H
X-Robots-Tag:noindex
X-PUBLISHED-TTL:PT1H
BEGIN:VTIMEZONE
TZID:America/Vancouver
BEGIN:DAYLIGHT
TZOFFSETFROM:-0800
TZOFFSETTO:-0700
TZNAME:PDT
DTSTART:20250309T100000
END:DAYLIGHT
BEGIN:STANDARD
TZOFFSETFROM:-0700
TZOFFSETTO:-0800
TZNAME:PST
DTSTART:20251102T090000
END:STANDARD
BEGIN:DAYLIGHT
TZOFFSETFROM:-0800
TZOFFSETTO:-0700
TZNAME:PDT
DTSTART:20260308T100000
END:DAYLIGHT
BEGIN:STANDARD
TZOFFSETFROM:-0700
TZOFFSETTO:-0800
TZNAME:PST
DTSTART:20261101T090000
END:STANDARD
BEGIN:DAYLIGHT
TZOFFSETFROM:-0800
TZOFFSETTO:-0700
TZNAME:PDT
DTSTART:20270314T100000
END:DAYLIGHT
BEGIN:STANDARD
TZOFFSETFROM:-0700
TZOFFSETTO:-0800
TZNAME:PST
DTSTART:20271107T090000
END:STANDARD
END:VTIMEZONE
BEGIN:VEVENT
DTSTART;TZID=America/Vancouver:20260509T090000
DTEND;TZID=America/Vancouver:20260509T140000
DTSTAMP:20260423T040709
CREATED:20260213T151528Z
LAST-MODIFIED:20260213T151528Z
UID:10000383-1778317200-1778335200@royalherbs.ca
SUMMARY:West End Farmers Market
DESCRIPTION:Come join Royal Herbs at the West End Farmers Market in Nelson Park! \nLocated in the heart of Vancouver’s busy West End\, this laid-back Saturday market looks onto beautiful Nelson Park and adjacent community gardens.  Each week\, West Enders can shop for the best in local\, seasonal produce\, artisanal bread & prepared foods\, craft beer\, wine\, & spirits\, ethically raised meat\, eggs\, & dairy\,sustainable seafood\, wild crafted product\, and handmade craft.  Hot food & coffee on-site as well. \nWest End Farmers Market takes place every Saturday\, 9am-2pm from May to October 1100 Comox St. between Bute and Thurlow. Take the dog for a walk and enjoy a market in your urban backyard.
URL:https://royalherbs.ca/event/west-end-farmers-market-5/2026-05-09/
LOCATION:Nelson Park\, 1100 Comox St\, Vancouver\, BC\, V6E 1K5\, Canada
CATEGORIES:Farmers Market
ATTACH;FMTTYPE=image/png:https://royalherbs.ca/wp-content/uploads/2020/03/vfm_logo.png
GEO:49.2817685;-123.1293182
X-APPLE-STRUCTURED-LOCATION;VALUE=URI;X-ADDRESS=Nelson Park 1100 Comox St Vancouver BC V6E 1K5 Canada;X-APPLE-RADIUS=500;X-TITLE=1100 Comox St:geo:-123.1293182,49.2817685
END:VEVENT
BEGIN:VEVENT
DTSTART;TZID=America/Vancouver:20260606T090000
DTEND;TZID=America/Vancouver:20260606T140000
DTSTAMP:20260423T040709
CREATED:20260213T151528Z
LAST-MODIFIED:20260213T151528Z
UID:10000384-1780736400-1780754400@royalherbs.ca
SUMMARY:West End Farmers Market
DESCRIPTION:Come join Royal Herbs at the West End Farmers Market in Nelson Park! \nLocated in the heart of Vancouver’s busy West End\, this laid-back Saturday market looks onto beautiful Nelson Park and adjacent community gardens.  Each week\, West Enders can shop for the best in local\, seasonal produce\, artisanal bread & prepared foods\, craft beer\, wine\, & spirits\, ethically raised meat\, eggs\, & dairy\,sustainable seafood\, wild crafted product\, and handmade craft.  Hot food & coffee on-site as well. \nWest End Farmers Market takes place every Saturday\, 9am-2pm from May to October 1100 Comox St. between Bute and Thurlow. Take the dog for a walk and enjoy a market in your urban backyard.
URL:https://royalherbs.ca/event/west-end-farmers-market-5/2026-06-06/
LOCATION:Nelson Park\, 1100 Comox St\, Vancouver\, BC\, V6E 1K5\, Canada
CATEGORIES:Farmers Market
ATTACH;FMTTYPE=image/png:https://royalherbs.ca/wp-content/uploads/2020/03/vfm_logo.png
GEO:49.2817685;-123.1293182
X-APPLE-STRUCTURED-LOCATION;VALUE=URI;X-ADDRESS=Nelson Park 1100 Comox St Vancouver BC V6E 1K5 Canada;X-APPLE-RADIUS=500;X-TITLE=1100 Comox St:geo:-123.1293182,49.2817685
END:VEVENT
BEGIN:VEVENT
DTSTART;TZID=America/Vancouver:20260627T090000
DTEND;TZID=America/Vancouver:20260627T140000
DTSTAMP:20260423T040709
CREATED:20260213T151528Z
LAST-MODIFIED:20260213T151528Z
UID:10000385-1782550800-1782568800@royalherbs.ca
SUMMARY:West End Farmers Market
DESCRIPTION:Come join Royal Herbs at the West End Farmers Market in Nelson Park! \nLocated in the heart of Vancouver’s busy West End\, this laid-back Saturday market looks onto beautiful Nelson Park and adjacent community gardens.  Each week\, West Enders can shop for the best in local\, seasonal produce\, artisanal bread & prepared foods\, craft beer\, wine\, & spirits\, ethically raised meat\, eggs\, & dairy\,sustainable seafood\, wild crafted product\, and handmade craft.  Hot food & coffee on-site as well. \nWest End Farmers Market takes place every Saturday\, 9am-2pm from May to October 1100 Comox St. between Bute and Thurlow. Take the dog for a walk and enjoy a market in your urban backyard.
URL:https://royalherbs.ca/event/west-end-farmers-market-5/2026-06-27/
LOCATION:Nelson Park\, 1100 Comox St\, Vancouver\, BC\, V6E 1K5\, Canada
CATEGORIES:Farmers Market
ATTACH;FMTTYPE=image/png:https://royalherbs.ca/wp-content/uploads/2020/03/vfm_logo.png
GEO:49.2817685;-123.1293182
X-APPLE-STRUCTURED-LOCATION;VALUE=URI;X-ADDRESS=Nelson Park 1100 Comox St Vancouver BC V6E 1K5 Canada;X-APPLE-RADIUS=500;X-TITLE=1100 Comox St:geo:-123.1293182,49.2817685
END:VEVENT
BEGIN:VEVENT
DTSTART;TZID=America/Vancouver:20260801T090000
DTEND;TZID=America/Vancouver:20260801T140000
DTSTAMP:20260423T040709
CREATED:20260213T151528Z
LAST-MODIFIED:20260213T151528Z
UID:10000386-1785574800-1785592800@royalherbs.ca
SUMMARY:West End Farmers Market
DESCRIPTION:Come join Royal Herbs at the West End Farmers Market in Nelson Park! \nLocated in the heart of Vancouver’s busy West End\, this laid-back Saturday market looks onto beautiful Nelson Park and adjacent community gardens.  Each week\, West Enders can shop for the best in local\, seasonal produce\, artisanal bread & prepared foods\, craft beer\, wine\, & spirits\, ethically raised meat\, eggs\, & dairy\,sustainable seafood\, wild crafted product\, and handmade craft.  Hot food & coffee on-site as well. \nWest End Farmers Market takes place every Saturday\, 9am-2pm from May to October 1100 Comox St. between Bute and Thurlow. Take the dog for a walk and enjoy a market in your urban backyard.
URL:https://royalherbs.ca/event/west-end-farmers-market-5/2026-08-01/
LOCATION:Nelson Park\, 1100 Comox St\, Vancouver\, BC\, V6E 1K5\, Canada
CATEGORIES:Farmers Market
ATTACH;FMTTYPE=image/png:https://royalherbs.ca/wp-content/uploads/2020/03/vfm_logo.png
GEO:49.2817685;-123.1293182
X-APPLE-STRUCTURED-LOCATION;VALUE=URI;X-ADDRESS=Nelson Park 1100 Comox St Vancouver BC V6E 1K5 Canada;X-APPLE-RADIUS=500;X-TITLE=1100 Comox St:geo:-123.1293182,49.2817685
END:VEVENT
BEGIN:VEVENT
DTSTART;TZID=America/Vancouver:20260905T090000
DTEND;TZID=America/Vancouver:20260905T140000
DTSTAMP:20260423T040709
CREATED:20260213T151528Z
LAST-MODIFIED:20260213T151528Z
UID:10000387-1788598800-1788616800@royalherbs.ca
SUMMARY:West End Farmers Market
DESCRIPTION:Come join Royal Herbs at the West End Farmers Market in Nelson Park! \nLocated in the heart of Vancouver’s busy West End\, this laid-back Saturday market looks onto beautiful Nelson Park and adjacent community gardens.  Each week\, West Enders can shop for the best in local\, seasonal produce\, artisanal bread & prepared foods\, craft beer\, wine\, & spirits\, ethically raised meat\, eggs\, & dairy\,sustainable seafood\, wild crafted product\, and handmade craft.  Hot food & coffee on-site as well. \nWest End Farmers Market takes place every Saturday\, 9am-2pm from May to October 1100 Comox St. between Bute and Thurlow. Take the dog for a walk and enjoy a market in your urban backyard.
URL:https://royalherbs.ca/event/west-end-farmers-market-5/2026-09-05/
LOCATION:Nelson Park\, 1100 Comox St\, Vancouver\, BC\, V6E 1K5\, Canada
CATEGORIES:Farmers Market
ATTACH;FMTTYPE=image/png:https://royalherbs.ca/wp-content/uploads/2020/03/vfm_logo.png
GEO:49.2817685;-123.1293182
X-APPLE-STRUCTURED-LOCATION;VALUE=URI;X-ADDRESS=Nelson Park 1100 Comox St Vancouver BC V6E 1K5 Canada;X-APPLE-RADIUS=500;X-TITLE=1100 Comox St:geo:-123.1293182,49.2817685
END:VEVENT
BEGIN:VEVENT
DTSTART;TZID=America/Vancouver:20261010T090000
DTEND;TZID=America/Vancouver:20261010T140000
DTSTAMP:20260423T040709
CREATED:20260213T151528Z
LAST-MODIFIED:20260213T151528Z
UID:10000388-1791622800-1791640800@royalherbs.ca
SUMMARY:West End Farmers Market
DESCRIPTION:Come join Royal Herbs at the West End Farmers Market in Nelson Park! \nLocated in the heart of Vancouver’s busy West End\, this laid-back Saturday market looks onto beautiful Nelson Park and adjacent community gardens.  Each week\, West Enders can shop for the best in local\, seasonal produce\, artisanal bread & prepared foods\, craft beer\, wine\, & spirits\, ethically raised meat\, eggs\, & dairy\,sustainable seafood\, wild crafted product\, and handmade craft.  Hot food & coffee on-site as well. \nWest End Farmers Market takes place every Saturday\, 9am-2pm from May to October 1100 Comox St. between Bute and Thurlow. Take the dog for a walk and enjoy a market in your urban backyard.
URL:https://royalherbs.ca/event/west-end-farmers-market-5/2026-10-10/
LOCATION:Nelson Park\, 1100 Comox St\, Vancouver\, BC\, V6E 1K5\, Canada
CATEGORIES:Farmers Market
ATTACH;FMTTYPE=image/png:https://royalherbs.ca/wp-content/uploads/2020/03/vfm_logo.png
GEO:49.2817685;-123.1293182
X-APPLE-STRUCTURED-LOCATION;VALUE=URI;X-ADDRESS=Nelson Park 1100 Comox St Vancouver BC V6E 1K5 Canada;X-APPLE-RADIUS=500;X-TITLE=1100 Comox St:geo:-123.1293182,49.2817685
END:VEVENT
END:VCALENDAR