BEGIN:VCALENDAR
VERSION:2.0
PRODID:-//Royal Herbs - ECPv6.15.17.1//NONSGML v1.0//EN
CALSCALE:GREGORIAN
METHOD:PUBLISH
X-WR-CALNAME:Royal Herbs
X-ORIGINAL-URL:https://royalherbs.ca
X-WR-CALDESC:Events for Royal Herbs
REFRESH-INTERVAL;VALUE=DURATION:PT1H
X-Robots-Tag:noindex
X-PUBLISHED-TTL:PT1H
BEGIN:VTIMEZONE
TZID:America/Vancouver
BEGIN:DAYLIGHT
TZOFFSETFROM:-0800
TZOFFSETTO:-0700
TZNAME:PDT
DTSTART:20170312T100000
END:DAYLIGHT
BEGIN:STANDARD
TZOFFSETFROM:-0700
TZOFFSETTO:-0800
TZNAME:PST
DTSTART:20171105T090000
END:STANDARD
BEGIN:DAYLIGHT
TZOFFSETFROM:-0800
TZOFFSETTO:-0700
TZNAME:PDT
DTSTART:20180311T100000
END:DAYLIGHT
BEGIN:STANDARD
TZOFFSETFROM:-0700
TZOFFSETTO:-0800
TZNAME:PST
DTSTART:20181104T090000
END:STANDARD
BEGIN:DAYLIGHT
TZOFFSETFROM:-0800
TZOFFSETTO:-0700
TZNAME:PDT
DTSTART:20190310T100000
END:DAYLIGHT
BEGIN:STANDARD
TZOFFSETFROM:-0700
TZOFFSETTO:-0800
TZNAME:PST
DTSTART:20191103T090000
END:STANDARD
BEGIN:DAYLIGHT
TZOFFSETFROM:-0800
TZOFFSETTO:-0700
TZNAME:PDT
DTSTART:20200308T100000
END:DAYLIGHT
BEGIN:STANDARD
TZOFFSETFROM:-0700
TZOFFSETTO:-0800
TZNAME:PST
DTSTART:20201101T090000
END:STANDARD
BEGIN:DAYLIGHT
TZOFFSETFROM:-0800
TZOFFSETTO:-0700
TZNAME:PDT
DTSTART:20210314T100000
END:DAYLIGHT
BEGIN:STANDARD
TZOFFSETFROM:-0700
TZOFFSETTO:-0800
TZNAME:PST
DTSTART:20211107T090000
END:STANDARD
BEGIN:DAYLIGHT
TZOFFSETFROM:-0800
TZOFFSETTO:-0700
TZNAME:PDT
DTSTART:20220313T100000
END:DAYLIGHT
BEGIN:STANDARD
TZOFFSETFROM:-0700
TZOFFSETTO:-0800
TZNAME:PST
DTSTART:20221106T090000
END:STANDARD
BEGIN:DAYLIGHT
TZOFFSETFROM:-0800
TZOFFSETTO:-0700
TZNAME:PDT
DTSTART:20230312T100000
END:DAYLIGHT
BEGIN:STANDARD
TZOFFSETFROM:-0700
TZOFFSETTO:-0800
TZNAME:PST
DTSTART:20231105T090000
END:STANDARD
END:VTIMEZONE
BEGIN:VEVENT
DTSTART;TZID=America/Vancouver:20220409T100000
DTEND;TZID=America/Vancouver:20220409T140000
DTSTAMP:20260421T040136
CREATED:20200915T150009Z
LAST-MODIFIED:20220109T231948Z
UID:10000208-1649498400-1649512800@royalherbs.ca
SUMMARY:Riley Park Farmers Market - Winter
DESCRIPTION:Located at Riley Park Plaza at 30th Avenue and Ontario Street\, the Riley Park Farmers market has over 30 farms and producers\, food and coffee trucks to offer! Join us to enjoy all that the local vendors have to offer! \n 
URL:https://royalherbs.ca/event/riley-park-farmers-market-apr092022/
LOCATION:Riley Park\, 50 E 30th Ave\, Vancouver\, BC\, Canada
CATEGORIES:Craft Show,Farmers Market
ATTACH;FMTTYPE=image/png:https://royalherbs.ca/wp-content/uploads/2018/03/vfm_logo.png
GEO:49.2433248;-123.1044525
X-APPLE-STRUCTURED-LOCATION;VALUE=URI;X-ADDRESS=Riley Park 50 E 30th Ave Vancouver BC Canada;X-APPLE-RADIUS=500;X-TITLE=50 E 30th Ave:geo:-123.1044525,49.2433248
END:VEVENT
BEGIN:VEVENT
DTSTART;TZID=America/Vancouver:20220326T100000
DTEND;TZID=America/Vancouver:20220326T140000
DTSTAMP:20260421T040136
CREATED:20200915T150009Z
LAST-MODIFIED:20220109T231906Z
UID:10000207-1648288800-1648303200@royalherbs.ca
SUMMARY:Riley Park Farmers Market - Winter
DESCRIPTION:Located at Riley Park Plaza at 30th Avenue and Ontario Street\, the Riley Park Farmers market has over 30 farms and producers\, food and coffee trucks to offer! Join us to enjoy all that the local vendors have to offer! \n 
URL:https://royalherbs.ca/event/riley-park-farmers-market-mar262022/
LOCATION:Riley Park\, 50 E 30th Ave\, Vancouver\, BC\, Canada
CATEGORIES:Craft Show,Farmers Market
ATTACH;FMTTYPE=image/png:https://royalherbs.ca/wp-content/uploads/2018/03/vfm_logo.png
GEO:49.2433248;-123.1044525
X-APPLE-STRUCTURED-LOCATION;VALUE=URI;X-ADDRESS=Riley Park 50 E 30th Ave Vancouver BC Canada;X-APPLE-RADIUS=500;X-TITLE=50 E 30th Ave:geo:-123.1044525,49.2433248
END:VEVENT
BEGIN:VEVENT
DTSTART;TZID=America/Vancouver:20220312T100000
DTEND;TZID=America/Vancouver:20220312T140000
DTSTAMP:20260421T040136
CREATED:20200915T150009Z
LAST-MODIFIED:20220109T231836Z
UID:10000182-1647079200-1647093600@royalherbs.ca
SUMMARY:Riley Park Farmers Market - Winter
DESCRIPTION:Located at Riley Park Plaza at 30th Avenue and Ontario Street\, the Riley Park Farmers market has over 30 farms and producers\, food and coffee trucks to offer! Join us to enjoy all that the local vendors have to offer! \n 
URL:https://royalherbs.ca/event/riley-park-farmers-market-mar122022/
LOCATION:Riley Park\, 50 E 30th Ave\, Vancouver\, BC\, Canada
CATEGORIES:Craft Show,Farmers Market
ATTACH;FMTTYPE=image/png:https://royalherbs.ca/wp-content/uploads/2018/03/vfm_logo.png
GEO:49.2433248;-123.1044525
X-APPLE-STRUCTURED-LOCATION;VALUE=URI;X-ADDRESS=Riley Park 50 E 30th Ave Vancouver BC Canada;X-APPLE-RADIUS=500;X-TITLE=50 E 30th Ave:geo:-123.1044525,49.2433248
END:VEVENT
BEGIN:VEVENT
DTSTART;TZID=America/Vancouver:20220226T100000
DTEND;TZID=America/Vancouver:20220226T140000
DTSTAMP:20260421T040136
CREATED:20200915T150009Z
LAST-MODIFIED:20220109T231737Z
UID:10000206-1645869600-1645884000@royalherbs.ca
SUMMARY:Riley Park Farmers Market - Winter
DESCRIPTION:Located at Riley Park Plaza at 30th Avenue and Ontario Street\, the Riley Park Farmers market has over 30 farms and producers\, food and coffee trucks to offer! Join us to enjoy all that the local vendors have to offer! \n 
URL:https://royalherbs.ca/event/riley-park-farmers-market-feb262022/
LOCATION:Riley Park\, 50 E 30th Ave\, Vancouver\, BC\, Canada
CATEGORIES:Craft Show,Farmers Market
ATTACH;FMTTYPE=image/png:https://royalherbs.ca/wp-content/uploads/2018/03/vfm_logo.png
GEO:49.2433248;-123.1044525
X-APPLE-STRUCTURED-LOCATION;VALUE=URI;X-ADDRESS=Riley Park 50 E 30th Ave Vancouver BC Canada;X-APPLE-RADIUS=500;X-TITLE=50 E 30th Ave:geo:-123.1044525,49.2433248
END:VEVENT
BEGIN:VEVENT
DTSTART;TZID=America/Vancouver:20220212T100000
DTEND;TZID=America/Vancouver:20220212T140000
DTSTAMP:20260421T040136
CREATED:20200915T150009Z
LAST-MODIFIED:20220109T231649Z
UID:10000205-1644660000-1644674400@royalherbs.ca
SUMMARY:Riley Park Farmers Market - Winter
DESCRIPTION:Located at Riley Park Plaza at 30th Avenue and Ontario Street\, the Riley Park Farmers market has over 30 farms and producers\, food and coffee trucks to offer! Join us to enjoy all that the local vendors have to offer! \n 
URL:https://royalherbs.ca/event/riley-park-farmers-market-feb122022/
LOCATION:Riley Park\, 50 E 30th Ave\, Vancouver\, BC\, Canada
CATEGORIES:Craft Show,Farmers Market
ATTACH;FMTTYPE=image/png:https://royalherbs.ca/wp-content/uploads/2018/03/vfm_logo.png
GEO:49.2433248;-123.1044525
X-APPLE-STRUCTURED-LOCATION;VALUE=URI;X-ADDRESS=Riley Park 50 E 30th Ave Vancouver BC Canada;X-APPLE-RADIUS=500;X-TITLE=50 E 30th Ave:geo:-123.1044525,49.2433248
END:VEVENT
BEGIN:VEVENT
DTSTART;TZID=America/Vancouver:20211218T100000
DTEND;TZID=America/Vancouver:20211218T140000
DTSTAMP:20260421T040136
CREATED:20200915T150009Z
LAST-MODIFIED:20211021T235111Z
UID:10000204-1639821600-1639836000@royalherbs.ca
SUMMARY:Riley Park Farmers Market - Winter
DESCRIPTION:Located at Riley Park Plaza at 30th Avenue and Ontario Street\, the Riley Park Farmers market has over 30 farms and producers\, food and coffee trucks to offer! Join us to enjoy all that the local vendors have to offer! \n 
URL:https://royalherbs.ca/event/riley-park-farmers-market-dec182021/
LOCATION:Riley Park\, 50 E 30th Ave\, Vancouver\, BC\, Canada
CATEGORIES:Craft Show,Farmers Market
ATTACH;FMTTYPE=image/png:https://royalherbs.ca/wp-content/uploads/2018/03/vfm_logo.png
GEO:49.2433248;-123.1044525
X-APPLE-STRUCTURED-LOCATION;VALUE=URI;X-ADDRESS=Riley Park 50 E 30th Ave Vancouver BC Canada;X-APPLE-RADIUS=500;X-TITLE=50 E 30th Ave:geo:-123.1044525,49.2433248
END:VEVENT
BEGIN:VEVENT
DTSTART;VALUE=DATE:20211202
DTEND;VALUE=DATE:20211206
DTSTAMP:20260421T040136
CREATED:20180512T015754Z
LAST-MODIFIED:20211202T031710Z
UID:10000164-1638403200-1638748799@royalherbs.ca
SUMMARY:Butterdome Craft Sale
DESCRIPTION:Signatures Butterdome Craft Sale is a uniquely Canadian handmade marketplace in Edmonton that features the works of over 220 artists\, artisans\, makers\, and designers from coast-to-coast. Since 1990\, the show has been Edmonton’s premier holiday shopping event and has become Alberta’s favourite – and largest – craft sale. It is an annual tradition where visitors can meet passionate creatives in person\, hear their stories\, and feel their works first-hand. Join us at the University of Alberta’s Butterdome for an unforgettable experience and shop for handmade that lasts a lifetime. \n\nAdmission\nGeneral Admission: $8\nAges 12 and under: Free \n\nHours:\n\n\n\nThursday\, December 2 10am to 10pm\nFriday\, December 3 10am to 10pm\nSaturday\, December 4 10am to 6pm\nSunday\, December 5 10am to 5pm
URL:https://royalherbs.ca/event/butterdome-craft-sale-dec022021/
LOCATION:Butterdome\, University of Alberta\, 87 Avenue and 114 Street\, Edmonton\, AB\, T6G 2H9\, Canada
CATEGORIES:Christmas Craft Fair,Craft Show
ATTACH;FMTTYPE=image/png:https://royalherbs.ca/wp-content/uploads/2018/05/signatures_Butterdome_web.png
GEO:53.522897;-113.5255757
X-APPLE-STRUCTURED-LOCATION;VALUE=URI;X-ADDRESS=Butterdome University of Alberta 87 Avenue and 114 Street Edmonton AB T6G 2H9 Canada;X-APPLE-RADIUS=500;X-TITLE=87 Avenue and 114 Street:geo:-113.5255757,53.522897
END:VEVENT
BEGIN:VEVENT
DTSTART;TZID=America/Vancouver:20210417T100000
DTEND;TZID=America/Vancouver:20210417T140000
DTSTAMP:20260421T040136
CREATED:20200915T150009Z
LAST-MODIFIED:20210402T133333Z
UID:10000203-1618653600-1618668000@royalherbs.ca
SUMMARY:Riley Park Farmers Market
DESCRIPTION:Located at Riley Park Plaza at 30th Avenue and Ontario Street\, the Riley Park Farmers market has over 30 farms and producers\, food and coffee trucks to offer! Join us to enjoy all that the local vendors have to offer! \n 
URL:https://royalherbs.ca/event/riley-park-farmers-market-apr172021/
LOCATION:Riley Park\, 50 E 30th Ave\, Vancouver\, BC\, Canada
CATEGORIES:Craft Show,Farmers Market
ATTACH;FMTTYPE=image/png:https://royalherbs.ca/wp-content/uploads/2018/03/vfm_logo.png
GEO:49.2433248;-123.1044525
X-APPLE-STRUCTURED-LOCATION;VALUE=URI;X-ADDRESS=Riley Park 50 E 30th Ave Vancouver BC Canada;X-APPLE-RADIUS=500;X-TITLE=50 E 30th Ave:geo:-123.1044525,49.2433248
END:VEVENT
BEGIN:VEVENT
DTSTART;TZID=America/Vancouver:20210403T100000
DTEND;TZID=America/Vancouver:20210403T140000
DTSTAMP:20260421T040136
CREATED:20200915T150009Z
LAST-MODIFIED:20210402T133119Z
UID:10000202-1617444000-1617458400@royalherbs.ca
SUMMARY:Riley Park Farmers Market
DESCRIPTION:Located at Riley Park Plaza at 30th Avenue and Ontario Street\, the Riley Park Farmers market has over 30 farms and producers\, food and coffee trucks to offer! Join us to enjoy all that the local vendors have to offer! \n 
URL:https://royalherbs.ca/event/riley-park-farmers-market-apr032021/
LOCATION:Riley Park\, 50 E 30th Ave\, Vancouver\, BC\, Canada
CATEGORIES:Craft Show,Farmers Market
ATTACH;FMTTYPE=image/png:https://royalherbs.ca/wp-content/uploads/2018/03/vfm_logo.png
GEO:49.2433248;-123.1044525
X-APPLE-STRUCTURED-LOCATION;VALUE=URI;X-ADDRESS=Riley Park 50 E 30th Ave Vancouver BC Canada;X-APPLE-RADIUS=500;X-TITLE=50 E 30th Ave:geo:-123.1044525,49.2433248
END:VEVENT
BEGIN:VEVENT
DTSTART;TZID=America/Vancouver:20201031T100000
DTEND;TZID=America/Vancouver:20201031T140000
DTSTAMP:20260421T040136
CREATED:20180819T141509Z
LAST-MODIFIED:20201029T135657Z
UID:10000184-1604138400-1604152800@royalherbs.ca
SUMMARY:Riley Park Farmers Market
DESCRIPTION:Located at Riley Park Plaza at 30th Avenue and Ontario Street\, the Riley Park Farmers market has over 30 farms and producers\, food and coffee trucks to offer! Join us to enjoy all that the local vendors have to offer! \n 
URL:https://royalherbs.ca/event/riley-park-farmers-market-oct312020/
LOCATION:Riley Park\, 50 E 30th Ave\, Vancouver\, BC\, Canada
CATEGORIES:Craft Show,Farmers Market
ATTACH;FMTTYPE=image/png:https://royalherbs.ca/wp-content/uploads/2018/03/vfm_logo.png
GEO:49.2433248;-123.1044525
X-APPLE-STRUCTURED-LOCATION;VALUE=URI;X-ADDRESS=Riley Park 50 E 30th Ave Vancouver BC Canada;X-APPLE-RADIUS=500;X-TITLE=50 E 30th Ave:geo:-123.1044525,49.2433248
END:VEVENT
BEGIN:VEVENT
DTSTART;TZID=America/Vancouver:20200307T100000
DTEND;TZID=America/Vancouver:20200307T140000
DTSTAMP:20260421T040136
CREATED:20180819T141509Z
LAST-MODIFIED:20190910T020310Z
UID:10000183-1583575200-1583589600@royalherbs.ca
SUMMARY:Riley Park Farmers Market
DESCRIPTION:Located at Riley Park Plaza at 30th Avenue and Ontario Street\, the Riley Park Farmers market has over 30 farms and producers\, food and coffee trucks to offer! Join us to enjoy all that the local vendors have to offer! \n 
URL:https://royalherbs.ca/event/riley-park-farmers-market-mar072020/
LOCATION:Riley Park\, 50 E 30th Ave\, Vancouver\, BC\, Canada
CATEGORIES:Craft Show,Farmers Market
ATTACH;FMTTYPE=image/png:https://royalherbs.ca/wp-content/uploads/2018/03/vfm_logo.png
GEO:49.2433248;-123.1044525
X-APPLE-STRUCTURED-LOCATION;VALUE=URI;X-ADDRESS=Riley Park 50 E 30th Ave Vancouver BC Canada;X-APPLE-RADIUS=500;X-TITLE=50 E 30th Ave:geo:-123.1044525,49.2433248
END:VEVENT
BEGIN:VEVENT
DTSTART;TZID=America/Vancouver:20200222T100000
DTEND;TZID=America/Vancouver:20200222T140000
DTSTAMP:20260421T040136
CREATED:20180819T141509Z
LAST-MODIFIED:20190910T020214Z
UID:10000181-1582365600-1582380000@royalherbs.ca
SUMMARY:Riley Park Farmers Market
DESCRIPTION:Located at Riley Park Plaza at 30th Avenue and Ontario Street\, the Riley Park Farmers market has over 30 farms and producers\, food and coffee trucks to offer! Join us to enjoy all that the local vendors have to offer! \n 
URL:https://royalherbs.ca/event/riley-park-farmers-market-feb222020/
LOCATION:Riley Park\, 50 E 30th Ave\, Vancouver\, BC\, Canada
CATEGORIES:Craft Show,Farmers Market
ATTACH;FMTTYPE=image/png:https://royalherbs.ca/wp-content/uploads/2018/03/vfm_logo.png
GEO:49.2433248;-123.1044525
X-APPLE-STRUCTURED-LOCATION;VALUE=URI;X-ADDRESS=Riley Park 50 E 30th Ave Vancouver BC Canada;X-APPLE-RADIUS=500;X-TITLE=50 E 30th Ave:geo:-123.1044525,49.2433248
END:VEVENT
BEGIN:VEVENT
DTSTART;TZID=America/Vancouver:20200208T100000
DTEND;TZID=America/Vancouver:20200208T140000
DTSTAMP:20260421T040136
CREATED:20180819T141509Z
LAST-MODIFIED:20190910T020115Z
UID:10000180-1581156000-1581170400@royalherbs.ca
SUMMARY:Riley Park Farmers Market
DESCRIPTION:Located at Riley Park Plaza at 30th Avenue and Ontario Street\, the Riley Park Farmers market has over 30 farms and producers\, food and coffee trucks to offer! Join us to enjoy all that the local vendors have to offer! \n 
URL:https://royalherbs.ca/event/riley-park-farmers-market-feb082020/
LOCATION:Riley Park\, 50 E 30th Ave\, Vancouver\, BC\, Canada
CATEGORIES:Craft Show,Farmers Market
ATTACH;FMTTYPE=image/png:https://royalherbs.ca/wp-content/uploads/2018/03/vfm_logo.png
GEO:49.2433248;-123.1044525
X-APPLE-STRUCTURED-LOCATION;VALUE=URI;X-ADDRESS=Riley Park 50 E 30th Ave Vancouver BC Canada;X-APPLE-RADIUS=500;X-TITLE=50 E 30th Ave:geo:-123.1044525,49.2433248
END:VEVENT
BEGIN:VEVENT
DTSTART;TZID=America/Vancouver:20191214T100000
DTEND;TZID=America/Vancouver:20191214T140000
DTSTAMP:20260421T040136
CREATED:20180819T141509Z
LAST-MODIFIED:20190910T015954Z
UID:10000179-1576317600-1576332000@royalherbs.ca
SUMMARY:Riley Park Farmers Market
DESCRIPTION:Located at Riley Park Plaza at 30th Avenue and Ontario Street\, the Riley Park Farmers market has over 30 farms and producers\, food and coffee trucks to offer! Join us to enjoy all that the local vendors have to offer! \n 
URL:https://royalherbs.ca/event/riley-park-farmers-market-dec142019/
LOCATION:Riley Park\, 50 E 30th Ave\, Vancouver\, BC\, Canada
CATEGORIES:Craft Show,Farmers Market
ATTACH;FMTTYPE=image/png:https://royalherbs.ca/wp-content/uploads/2018/03/vfm_logo.png
GEO:49.2433248;-123.1044525
X-APPLE-STRUCTURED-LOCATION;VALUE=URI;X-ADDRESS=Riley Park 50 E 30th Ave Vancouver BC Canada;X-APPLE-RADIUS=500;X-TITLE=50 E 30th Ave:geo:-123.1044525,49.2433248
END:VEVENT
BEGIN:VEVENT
DTSTART;TZID=America/Vancouver:20191102T100000
DTEND;TZID=America/Vancouver:20191102T140000
DTSTAMP:20260421T040136
CREATED:20180819T141509Z
LAST-MODIFIED:20190910T015836Z
UID:10000178-1572688800-1572703200@royalherbs.ca
SUMMARY:Riley Park Farmers Market
DESCRIPTION:Located at Riley Park Plaza at 30th Avenue and Ontario Street\, the Riley Park Farmers market has over 30 farms and producers\, food and coffee trucks to offer! Join us to enjoy all that the local vendors have to offer! \n 
URL:https://royalherbs.ca/event/riley-park-farmers-market-nov022019/
LOCATION:Riley Park\, 50 E 30th Ave\, Vancouver\, BC\, Canada
CATEGORIES:Craft Show,Farmers Market
ATTACH;FMTTYPE=image/png:https://royalherbs.ca/wp-content/uploads/2018/03/vfm_logo.png
GEO:49.2433248;-123.1044525
X-APPLE-STRUCTURED-LOCATION;VALUE=URI;X-ADDRESS=Riley Park 50 E 30th Ave Vancouver BC Canada;X-APPLE-RADIUS=500;X-TITLE=50 E 30th Ave:geo:-123.1044525,49.2433248
END:VEVENT
BEGIN:VEVENT
DTSTART;VALUE=DATE:20191101
DTEND;VALUE=DATE:20191104
DTSTAMP:20260421T040136
CREATED:20180512T000710Z
LAST-MODIFIED:20220909T135341Z
UID:10000149-1572566400-1572825599@royalherbs.ca
SUMMARY:Prince George Studio Fair
DESCRIPTION:Come join Royal Herbs at the Prince George Studio Fair! \nStudio Fair is the public’s doorway to the arts in Northern British Columbia.  Studio Fair has a reputation for providing unique\, original\, quality gifts\, artwork and cuisine.  Visitors come from all over the province for a one-of-a-kind shopping experience. \nHours\nFriday 10am – 8pm\nSaturday 10am – 6pm\nSunday 10am – 4pm \nAdmission\nAdult/Student/Senior: $5.00\nUnder 12: Free
URL:https://royalherbs.ca/event/prince-george-studio-fair-nov012019/
LOCATION:Prince George Civic Centre\, 808 Canada Games Way\, Prince George\, British Columbia\, V2L 5L1\, Canada
CATEGORIES:Craft Show
ATTACH;FMTTYPE=image/jpeg:https://royalherbs.ca/wp-content/uploads/2018/05/studio-fair-e1526083482516.jpg
GEO:53.912562;-122.749237
X-APPLE-STRUCTURED-LOCATION;VALUE=URI;X-ADDRESS=Prince George Civic Centre 808 Canada Games Way Prince George British Columbia V2L 5L1 Canada;X-APPLE-RADIUS=500;X-TITLE=808 Canada Games Way:geo:-122.749237,53.912562
END:VEVENT
BEGIN:VEVENT
DTSTART;VALUE=DATE:20190503
DTEND;VALUE=DATE:20190506
DTSTAMP:20260421T040136
CREATED:20181231T044053Z
LAST-MODIFIED:20181231T044225Z
UID:10000185-1556841600-1557100799@royalherbs.ca
SUMMARY:Butterdome Spring Craft Sale
DESCRIPTION:The Butterdome Spring Craft Sale is Edmonton’s ultimate spring shopping event\, featuring some of the very best talents from the Canadian Handmade community.  Held over three days at the University of Alberta’s iconic Butterdome building\, the Butterdome Spring Craft Sale gathers over 180 of Canada’s most amazing artists\, artisans\, and designers\, who interact with shoppers and display their best works for them to behold\, providing a truly unforgettable experience. \nWith an incredible assortment of locally and nationally sourced quality handmade goods to choose from\, including fresh fashion looks\, stunning jewellery\, home décor\, sculptures\, glassware\, natural body care\, delicious gourmet treats\, and more\, this event is the perfect time to spoil yourself or a loved one for the many moments spring time has to offer. \nShow hours:\nMay 3\, Friday:  10am – 10pm\nMay 4\, Saturday: 10am – 6pm\nMay 5\, Sunday: 10am – 5pm \nGeneral Admission $5\nAges 17 years & under are FREE
URL:https://royalherbs.ca/event/butterdome-spring-craft-sale-may032019/
LOCATION:Butterdome\, University of Alberta\, 87 Avenue and 114 Street\, Edmonton\, AB\, T6G 2H9\, Canada
CATEGORIES:Craft Show
ATTACH;FMTTYPE=image/png:https://royalherbs.ca/wp-content/uploads/2018/12/ButterdomeSprWebsite2018.png
GEO:53.522897;-113.5255757
X-APPLE-STRUCTURED-LOCATION;VALUE=URI;X-ADDRESS=Butterdome University of Alberta 87 Avenue and 114 Street Edmonton AB T6G 2H9 Canada;X-APPLE-RADIUS=500;X-TITLE=87 Avenue and 114 Street:geo:-113.5255757,53.522897
END:VEVENT
BEGIN:VEVENT
DTSTART;TZID=America/Vancouver:20190406T100000
DTEND;TZID=America/Vancouver:20190406T140000
DTSTAMP:20260421T040136
CREATED:20180819T141509Z
LAST-MODIFIED:20181231T043022Z
UID:10000177-1554544800-1554559200@royalherbs.ca
SUMMARY:Riley Park Farmers Market
DESCRIPTION:Located at Riley Park Plaza at 30th Avenue and Ontario Street\, the Riley Park Farmers market has over 30 farms and producers\, food and coffee trucks to offer! Join us to enjoy all that the local vendors have to offer! \n 
URL:https://royalherbs.ca/event/riley-park-farmers-market-apr062019/
LOCATION:Riley Park\, 50 E 30th Ave\, Vancouver\, BC\, Canada
CATEGORIES:Craft Show,Farmers Market
ATTACH;FMTTYPE=image/png:https://royalherbs.ca/wp-content/uploads/2018/03/vfm_logo.png
GEO:49.2433248;-123.1044525
X-APPLE-STRUCTURED-LOCATION;VALUE=URI;X-ADDRESS=Riley Park 50 E 30th Ave Vancouver BC Canada;X-APPLE-RADIUS=500;X-TITLE=50 E 30th Ave:geo:-123.1044525,49.2433248
END:VEVENT
BEGIN:VEVENT
DTSTART;TZID=America/Vancouver:20190323T100000
DTEND;TZID=America/Vancouver:20190323T140000
DTSTAMP:20260421T040136
CREATED:20180819T141509Z
LAST-MODIFIED:20181231T042913Z
UID:10000176-1553335200-1553349600@royalherbs.ca
SUMMARY:Riley Park Farmers Market
DESCRIPTION:Located at Riley Park Plaza at 30th Avenue and Ontario Street\, the Riley Park Farmers market has over 30 farms and producers\, food and coffee trucks to offer! Join us to enjoy all that the local vendors have to offer! \n 
URL:https://royalherbs.ca/event/riley-park-farmers-market-mar232019/
LOCATION:Riley Park\, 50 E 30th Ave\, Vancouver\, BC\, Canada
CATEGORIES:Craft Show,Farmers Market
ATTACH;FMTTYPE=image/png:https://royalherbs.ca/wp-content/uploads/2018/03/vfm_logo.png
GEO:49.2433248;-123.1044525
X-APPLE-STRUCTURED-LOCATION;VALUE=URI;X-ADDRESS=Riley Park 50 E 30th Ave Vancouver BC Canada;X-APPLE-RADIUS=500;X-TITLE=50 E 30th Ave:geo:-123.1044525,49.2433248
END:VEVENT
BEGIN:VEVENT
DTSTART;TZID=America/Vancouver:20190309T100000
DTEND;TZID=America/Vancouver:20190309T140000
DTSTAMP:20260421T040136
CREATED:20180819T141509Z
LAST-MODIFIED:20181231T042811Z
UID:10000175-1552125600-1552140000@royalherbs.ca
SUMMARY:Riley Park Farmers Market
DESCRIPTION:Located at Riley Park Plaza at 30th Avenue and Ontario Street\, the Riley Park Farmers market has over 30 farms and producers\, food and coffee trucks to offer! Join us to enjoy all that the local vendors have to offer! \n 
URL:https://royalherbs.ca/event/riley-park-farmers-market-mar092019/
LOCATION:Riley Park\, 50 E 30th Ave\, Vancouver\, BC\, Canada
CATEGORIES:Craft Show,Farmers Market
ATTACH;FMTTYPE=image/png:https://royalherbs.ca/wp-content/uploads/2018/03/vfm_logo.png
GEO:49.2433248;-123.1044525
X-APPLE-STRUCTURED-LOCATION;VALUE=URI;X-ADDRESS=Riley Park 50 E 30th Ave Vancouver BC Canada;X-APPLE-RADIUS=500;X-TITLE=50 E 30th Ave:geo:-123.1044525,49.2433248
END:VEVENT
BEGIN:VEVENT
DTSTART;TZID=America/Vancouver:20190223T100000
DTEND;TZID=America/Vancouver:20190223T140000
DTSTAMP:20260421T040136
CREATED:20180819T141509Z
LAST-MODIFIED:20181231T042700Z
UID:10000174-1550916000-1550930400@royalherbs.ca
SUMMARY:Riley Park Farmers Market
DESCRIPTION:Located at Riley Park Plaza at 30th Avenue and Ontario Street\, the Riley Park Farmers market has over 30 farms and producers\, food and coffee trucks to offer! Join us to enjoy all that the local vendors have to offer! \n 
URL:https://royalherbs.ca/event/riley-park-farmers-market-feb232019/
LOCATION:Riley Park\, 50 E 30th Ave\, Vancouver\, BC\, Canada
CATEGORIES:Craft Show,Farmers Market
ATTACH;FMTTYPE=image/png:https://royalherbs.ca/wp-content/uploads/2018/03/vfm_logo.png
GEO:49.2433248;-123.1044525
X-APPLE-STRUCTURED-LOCATION;VALUE=URI;X-ADDRESS=Riley Park 50 E 30th Ave Vancouver BC Canada;X-APPLE-RADIUS=500;X-TITLE=50 E 30th Ave:geo:-123.1044525,49.2433248
END:VEVENT
BEGIN:VEVENT
DTSTART;TZID=America/Vancouver:20190209T100000
DTEND;TZID=America/Vancouver:20190209T140000
DTSTAMP:20260421T040136
CREATED:20180819T141509Z
LAST-MODIFIED:20181231T042430Z
UID:10000173-1549706400-1549720800@royalherbs.ca
SUMMARY:Riley Park Farmers Market
DESCRIPTION:Located at Riley Park Plaza at 30th Avenue and Ontario Street\, the Riley Park Farmers market has over 30 farms and producers\, food and coffee trucks to offer! Join us to enjoy all that the local vendors have to offer! \n 
URL:https://royalherbs.ca/event/riley-park-farmers-market-feb092019/
LOCATION:Riley Park\, 50 E 30th Ave\, Vancouver\, BC\, Canada
CATEGORIES:Craft Show,Farmers Market
ATTACH;FMTTYPE=image/png:https://royalherbs.ca/wp-content/uploads/2018/03/vfm_logo.png
GEO:49.2433248;-123.1044525
X-APPLE-STRUCTURED-LOCATION;VALUE=URI;X-ADDRESS=Riley Park 50 E 30th Ave Vancouver BC Canada;X-APPLE-RADIUS=500;X-TITLE=50 E 30th Ave:geo:-123.1044525,49.2433248
END:VEVENT
BEGIN:VEVENT
DTSTART;TZID=America/Vancouver:20181208T100000
DTEND;TZID=America/Vancouver:20181208T140000
DTSTAMP:20260421T040136
CREATED:20180819T141509Z
LAST-MODIFIED:20180819T141509Z
UID:10000172-1544263200-1544277600@royalherbs.ca
SUMMARY:Riley Park Farmers Market
DESCRIPTION:Located at Riley Park Plaza at 30th Avenue and Ontario Street\, the Riley Park Farmers market has over 30 farms and producers\, food and coffee trucks to offer! Join us to enjoy all that the local vendors have to offer! \n 
URL:https://royalherbs.ca/event/riley-park-farmers-market-dec082018/
LOCATION:Riley Park\, 50 E 30th Ave\, Vancouver\, BC\, Canada
CATEGORIES:Craft Show,Farmers Market
ATTACH;FMTTYPE=image/png:https://royalherbs.ca/wp-content/uploads/2018/03/vfm_logo.png
GEO:49.2433248;-123.1044525
X-APPLE-STRUCTURED-LOCATION;VALUE=URI;X-ADDRESS=Riley Park 50 E 30th Ave Vancouver BC Canada;X-APPLE-RADIUS=500;X-TITLE=50 E 30th Ave:geo:-123.1044525,49.2433248
END:VEVENT
BEGIN:VEVENT
DTSTART;TZID=America/Vancouver:20181103T100000
DTEND;TZID=America/Vancouver:20181103T140000
DTSTAMP:20260421T040136
CREATED:20180819T140948Z
LAST-MODIFIED:20180819T140948Z
UID:10000171-1541239200-1541253600@royalherbs.ca
SUMMARY:Riley Park Farmers Market
DESCRIPTION:Located at Riley Park Plaza at 30th Avenue and Ontario Street\, the Riley Park Farmers market has over 30 farms and producers\, food and coffee trucks to offer! Join us to enjoy all that the local vendors have to offer!
URL:https://royalherbs.ca/event/riley-park-farmers-market-nov0318/
LOCATION:Riley Park\, 50 E 30th Ave\, Vancouver\, BC\, Canada
CATEGORIES:Craft Show,Farmers Market
ATTACH;FMTTYPE=image/png:https://royalherbs.ca/wp-content/uploads/2018/03/vfm_logo.png
GEO:49.2433248;-123.1044525
X-APPLE-STRUCTURED-LOCATION;VALUE=URI;X-ADDRESS=Riley Park 50 E 30th Ave Vancouver BC Canada;X-APPLE-RADIUS=500;X-TITLE=50 E 30th Ave:geo:-123.1044525,49.2433248
END:VEVENT
BEGIN:VEVENT
DTSTART;VALUE=DATE:20180504
DTEND;VALUE=DATE:20180507
DTSTAMP:20260421T040136
CREATED:20180307T015738Z
LAST-MODIFIED:20180429T222734Z
UID:10000049-1525392000-1525651199@royalherbs.ca
SUMMARY:Butterdome Spring Craft Sale
DESCRIPTION:The Butterdome Spring Craft Sale is Edmonton’s ultimate spring shopping event\, celebrating its 11th anniversary and featuring some of the very best talents from the Canadian Handmade community. \nHeld over three days at the University of Alberta’s iconic Butterdome building\, the Butterdome Spring Craft Sale gathers over 180 of Canada’s most amazing artists\, artisans\, and designers\, who interact with shoppers and display their best works for them to behold\, providing a truly unforgettable experience. \nWith an incredible assortment of locally and nationally sourced quality handmade goods to choose from\, including fresh fashion looks\, stunning jewellery\, home décor\, sculptures\, glassware\, natural body care\, delicious gourmet treats\, and more\, this event is the perfect time to spoil yourself or a loved one for the many moments spring time has to offer. \nHours\nFriday 10am – 10pm\nSaturday 10am – 6pm\nSunday 10am – 5pm \nAdmission\nGeneral Admission $5\n17 & under FREE
URL:https://royalherbs.ca/event/butterdome-spring-craft-sale/
LOCATION:Butterdome\, University of Alberta\, 87 Avenue and 114 Street\, Edmonton\, AB\, T6G 2H9\, Canada
CATEGORIES:Craft Show
ATTACH;FMTTYPE=image/jpeg:https://royalherbs.ca/wp-content/uploads/2018/04/butterdome-spring-craft-sale.jpg
GEO:53.522897;-113.5255757
X-APPLE-STRUCTURED-LOCATION;VALUE=URI;X-ADDRESS=Butterdome University of Alberta 87 Avenue and 114 Street Edmonton AB T6G 2H9 Canada;X-APPLE-RADIUS=500;X-TITLE=87 Avenue and 114 Street:geo:-113.5255757,53.522897
END:VEVENT
END:VCALENDAR